BEGIN:VCALENDAR
VERSION:2.0
PRODID:-//eventon.com NONSGML v1.0//EN
CALSCALE:GREGORIAN
METHOD:PUBLISH
BEGIN:VEVENT
UID:69e8aad71a9bd
DTSTAMP:20260422T110247Z
DTSTART:20250311T184000Z
DTEND:20250311T225000Z
LOCATION:
SUMMARY:Abteilungsversammlung Leichtathletik
DESCRIPTION:Abteilungsversammlung Leichtathletik\nhttps://tsv-rottenburg.de
 /events/abteilungsversammlung-leichtathletik
URL:https://tsv-rottenburg.de/events/abteilungsversammlung-leichtathletik
END:VEVENT
END:VCALENDAR